OziExplorer Map Data File Version 2.2
Usmansky_bor.jpg
D:\!Documents\Filimonov\ÁÅÇÄÎÐÎÆÜÅ-36\ÄÎÊÓÌÅÍÒÛ\2008\×Î ïî òðîôè\1-é ýòàï Øóòêè-2008\Êàðòû\Usmansky_bor.jpg
1 ,Map Code,
Pulkovo 1942 (1),WGS 84, 0.0000, 0.0000,WGS 84
Reserved 1
Reserved 2
Magnetic Variation,,,E
Map Projection,(UTM) Universal Transverse Mercator,PolyCal,No,AutoCalOnly,No,BSBUseWPX,No
Point01,xy, 138, 137,in, deg, 51, 53.8111,N, 39, 22.7449,E, grid, , , ,N
Point02,xy, 1467, 153,in, deg, 51, 53.7374,N, 39, 35.0151,E, grid, , , ,N
Point03,xy, 697, 144,in, deg, 51, 53.7836,N, 39, 27.9100,E, grid, , , ,N
Point04,xy, 128, 1359,in, deg, 51, 46.7568,N, 39, 22.6036,E, grid, , , ,N
Point05,xy, 690, 1358,in, deg, 51, 46.7815,N, 39, 27.7834,E, grid, , , ,N
Point06,xy, 786, 613,in, deg, 51, 51.0780,N, 39, 28.7075,E, grid, , , ,N
Point07,xy, , ,in, deg, , ,N, , ,E, grid, , , ,N
Point08,xy, , ,in, deg, , ,N, , ,E, grid, , , ,N
Point09,xy, , ,in, deg, , ,N, , ,E, grid, , , ,N
Point10,xy, , ,in, deg, , ,, , ,, grid, , , ,
Point11,xy, , ,in, deg, , ,, , ,, grid, , , ,
Point12,xy, , ,in, deg, , ,, , ,, grid, , , ,
Point13,xy, , ,in, deg, , ,, , ,, grid, , , ,
Point14,xy, , ,in, deg, , ,, , ,, grid, , , ,
Point15,xy, , ,in, deg, , ,, , ,, grid, , , ,
Point16,xy, , ,in, deg, , ,, , ,, grid, , , ,
Point17,xy, , ,in, deg, , ,, , ,, grid, , , ,
Point18,xy, , ,in, deg, , ,, , ,, grid, , , ,
Point19,xy, , ,in, deg, , ,, , ,, grid, , , ,
Point20,xy, , ,in, deg, , ,, , ,, grid, , , ,
Point21,xy, , ,in, deg, , ,, , ,, grid, , , ,
Point22,xy, , ,in, deg, , ,, , ,, grid, , , ,
Point23,xy, , ,in, deg, , ,, , ,, grid, , , ,
Point24,xy, , ,in, deg, , ,, , ,, grid, , , ,
Point25,xy, , ,in, deg, , ,, , ,, grid, , , ,
Point26,xy, , ,in, deg, , ,, , ,, grid, , , ,
Point27,xy, , ,in, deg, , ,, , ,, grid, , , ,
Point28,xy, , ,in, deg, , ,, , ,, grid, , , ,
Point29,xy, , ,in, deg, , ,, , ,, grid, , , ,
Point30,xy, , ,in, deg, , ,, , ,, grid, , , ,
Projection Setup,,,,,,,,,,
Map Feature = MF ; Map Comment = MC These follow if they exist
Track File = TF These follow if they exist
Moving Map Parameters = MM? These follow if they exist
MM0,Yes
MMPNUM,4
MMPXY,1,0,0
MMPXY,2,1537,0
MMPXY,3,1537,1442
MMPXY,4,0,1442
MMPLL,1, 39.357944, 51.909960
MMPLL,2, 39.594573, 51.910383
MMPLL,3, 39.592966, 51.771733
MMPLL,4, 39.357063, 51.771306
MM1B,10.590150
MOP,Map Open Position,0,0
IWH,Map Image Width/Height,1537,1442
